BEGIN:VCALENDAR
VERSION:2.0
PRODID:-//Casino Mine Ranch Winery - ECPv6.15.20//NONSGML v1.0//EN
CALSCALE:GREGORIAN
METHOD:PUBLISH
X-WR-CALNAME:Casino Mine Ranch Winery
X-ORIGINAL-URL:https://www.casinomineranch.com
X-WR-CALDESC:Events for Casino Mine Ranch Winery
REFRESH-INTERVAL;VALUE=DURATION:PT1H
X-Robots-Tag:noindex
X-PUBLISHED-TTL:PT1H
BEGIN:VTIMEZONE
TZID:America/Los_Angeles
BEGIN:DAYLIGHT
TZOFFSETFROM:-0800
TZOFFSETTO:-0700
TZNAME:PDT
DTSTART:20250309T100000
END:DAYLIGHT
BEGIN:STANDARD
TZOFFSETFROM:-0700
TZOFFSETTO:-0800
TZNAME:PST
DTSTART:20251102T090000
END:STANDARD
BEGIN:DAYLIGHT
TZOFFSETFROM:-0800
TZOFFSETTO:-0700
TZNAME:PDT
DTSTART:20260308T100000
END:DAYLIGHT
BEGIN:STANDARD
TZOFFSETFROM:-0700
TZOFFSETTO:-0800
TZNAME:PST
DTSTART:20261101T090000
END:STANDARD
BEGIN:DAYLIGHT
TZOFFSETFROM:-0800
TZOFFSETTO:-0700
TZNAME:PDT
DTSTART:20270314T100000
END:DAYLIGHT
BEGIN:STANDARD
TZOFFSETFROM:-0700
TZOFFSETTO:-0800
TZNAME:PST
DTSTART:20271107T090000
END:STANDARD
END:VTIMEZONE
BEGIN:VEVENT
DTSTART;VALUE=DATE:20260130
DTEND;VALUE=DATE:20260202
DTSTAMP:20260422T190814
CREATED:20251216T030343Z
LAST-MODIFIED:20260115T015822Z
UID:6447-1769731200-1769990399@www.casinomineranch.com
SUMMARY:Club Members - Winter Release
DESCRIPTION:Come taste and take home your Winter release. Wood-fired pizzas will be coming out hot from the oven\, paired with our winter wines and meant to be enjoyed at an easy pace. It’s relaxed\, satisfying\, and exactly how winter weekends should feel at the Ranch. \nComplimentary for members and their guests. Log in to reserve and see availability. \nReserve \nWe’re here for questions at wineclub@casinomineranch.com
URL:https://www.casinomineranch.com/event/club-members-winter-release/
LOCATION:Casino Mine Ranch Winery\, 10690 Shenandoah Rd\, Plymouth\, CA\, 95669\, United States
ATTACH;FMTTYPE=image/png:https://www.casinomineranch.com/wp-content/uploads/2025/09/sip-stroll-website.png
END:VEVENT
END:VCALENDAR