BEGIN:VCALENDAR
VERSION:2.0
PRODID:-//Casino Mine Ranch Winery - ECPv6.15.20//NONSGML v1.0//EN
CALSCALE:GREGORIAN
METHOD:PUBLISH
X-WR-CALNAME:Casino Mine Ranch Winery
X-ORIGINAL-URL:https://www.casinomineranch.com
X-WR-CALDESC:Events for Casino Mine Ranch Winery
REFRESH-INTERVAL;VALUE=DURATION:PT1H
X-Robots-Tag:noindex
X-PUBLISHED-TTL:PT1H
BEGIN:VTIMEZONE
TZID:America/Los_Angeles
BEGIN:DAYLIGHT
TZOFFSETFROM:-0800
TZOFFSETTO:-0700
TZNAME:PDT
DTSTART:20250309T100000
END:DAYLIGHT
BEGIN:STANDARD
TZOFFSETFROM:-0700
TZOFFSETTO:-0800
TZNAME:PST
DTSTART:20251102T090000
END:STANDARD
BEGIN:DAYLIGHT
TZOFFSETFROM:-0800
TZOFFSETTO:-0700
TZNAME:PDT
DTSTART:20260308T100000
END:DAYLIGHT
BEGIN:STANDARD
TZOFFSETFROM:-0700
TZOFFSETTO:-0800
TZNAME:PST
DTSTART:20261101T090000
END:STANDARD
BEGIN:DAYLIGHT
TZOFFSETFROM:-0800
TZOFFSETTO:-0700
TZNAME:PDT
DTSTART:20270314T100000
END:DAYLIGHT
BEGIN:STANDARD
TZOFFSETFROM:-0700
TZOFFSETTO:-0800
TZNAME:PST
DTSTART:20271107T090000
END:STANDARD
END:VTIMEZONE
BEGIN:VEVENT
DTSTART;TZID=America/Los_Angeles:20260207T110000
DTEND;TZID=America/Los_Angeles:20260301T163000
DTSTAMP:20260422T191109
CREATED:20260109T212152Z
LAST-MODIFIED:20260203T202846Z
UID:6610-1770462000-1772382600@www.casinomineranch.com
SUMMARY:Fireside February
DESCRIPTION:Looking for a cozy retreat this winter to enjoy the beautiful outdoors\, with wine in hand? \nThis February\, settle in for a fireside wine tasting experience in our Garden\, designed for groups of 2 to 6 guests. Sip\, savor\, and linger as the wood fire crackles nearby and the ranch slows down around you. \nOn Saturdays and Sundays\, enjoy the glow and warmth of the fire\, and add a savory s’more pack that includes salami\, cheeses\, crackers & accompaniments ($45 for two servings)\, or indulge in a classic sweet s’more pack ($15 for two servings). Both are perfect for sharing\, or not. \nFor weekend fireside pricing and reservations\, please email inquire@casinomineranch.com. \n*Subject to weather permitting.
URL:https://www.casinomineranch.com/event/fireside-february/
LOCATION:Casino Mine Ranch Winery\, 10690 Shenandoah Rd\, Plymouth\, CA\, 95669\, United States
ATTACH;FMTTYPE=image/jpeg:https://www.casinomineranch.com/wp-content/uploads/2026/01/Fireside-February-2000x1000-1.jpg
ORGANIZER;CN="CMR":MAILTO:inquire@casinomineranch.com
END:VEVENT
BEGIN:VEVENT
DTSTART;TZID=America/Los_Angeles:20260213T110000
DTEND;TZID=America/Los_Angeles:20260216T163000
DTSTAMP:20260422T191109
CREATED:20260127T205015Z
LAST-MODIFIED:20260213T193133Z
UID:6865-1770980400-1771259400@www.casinomineranch.com
SUMMARY:Sold Out - Valentine Cookie Pairing
DESCRIPTION:Love is in the air and the Tasting Room is the perfect cupid location for you and yours.  Available with advanced reservations\, the kitchen is crafting your not-so-ordinary sweet and savory winter cookies for a divine Valentine Cookie Pairing experience. \nProudly using local Sierra Nevada cultured butter and Fog Dog Farm ingredients\, would love for you to indulge with us this Valentine’s Day weekend:  Friday Feb 13-Monday Feb 16. \n  \nSweet Winter Cookies\nWine: Vermentino\nCookie: yuzu & poppyseed with local citrus from Struz Ranch. \nWine: Grenache Noir\nCookie: TCHO Chocolate rye cocoa \nWine: Marcel or Simone\nCookie: Chewy birch syrup & Placerville-grown ginger from Fog Dog Farm \n  \nSavory Winter Cookies\nWine: Grenache Blanc or Rosé\nCookie: Sierra Nevada farmhouse cheddar & shallot jam \nWine: Mourvèdre or Zinfandel\nCookie: Rouge River blue cheese & local walnut \n  \nAll you have to do is book your wine tasting for either February 13\, 14 or 15 and then call (209) 330-0695 or email us at inquire@casinomineranch.com to add on Cookie Pairing. \n$15 for club members and $20 for non-members. \n*Cookies pictured are merely a tease. Actual cookies may vary\, but they’ll be just as delicious.
URL:https://www.casinomineranch.com/event/valentine-cookie-pairing/
LOCATION:Casino Mine Ranch Winery\, 10690 Shenandoah Rd\, Plymouth\, CA\, 95669\, United States
ATTACH;FMTTYPE=image/jpeg:https://www.casinomineranch.com/wp-content/uploads/2026/01/Valentines-Cookie-Pairing-Web-Image-2.jpg
ORGANIZER;CN="CMR":MAILTO:inquire@casinomineranch.com
END:VEVENT
END:VCALENDAR