BEGIN:VCALENDAR
VERSION:2.0
PRODID:-//Casino Mine Ranch Winery - ECPv6.15.20//NONSGML v1.0//EN
CALSCALE:GREGORIAN
METHOD:PUBLISH
X-WR-CALNAME:Casino Mine Ranch Winery
X-ORIGINAL-URL:https://www.casinomineranch.com
X-WR-CALDESC:Events for Casino Mine Ranch Winery
REFRESH-INTERVAL;VALUE=DURATION:PT1H
X-Robots-Tag:noindex
X-PUBLISHED-TTL:PT1H
BEGIN:VTIMEZONE
TZID:America/Los_Angeles
BEGIN:DAYLIGHT
TZOFFSETFROM:-0800
TZOFFSETTO:-0700
TZNAME:PDT
DTSTART:20250309T100000
END:DAYLIGHT
BEGIN:STANDARD
TZOFFSETFROM:-0700
TZOFFSETTO:-0800
TZNAME:PST
DTSTART:20251102T090000
END:STANDARD
BEGIN:DAYLIGHT
TZOFFSETFROM:-0800
TZOFFSETTO:-0700
TZNAME:PDT
DTSTART:20260308T100000
END:DAYLIGHT
BEGIN:STANDARD
TZOFFSETFROM:-0700
TZOFFSETTO:-0800
TZNAME:PST
DTSTART:20261101T090000
END:STANDARD
BEGIN:DAYLIGHT
TZOFFSETFROM:-0800
TZOFFSETTO:-0700
TZNAME:PDT
DTSTART:20270314T100000
END:DAYLIGHT
BEGIN:STANDARD
TZOFFSETFROM:-0700
TZOFFSETTO:-0800
TZNAME:PST
DTSTART:20271107T090000
END:STANDARD
END:VTIMEZONE
BEGIN:VEVENT
DTSTART;TZID=America/Los_Angeles:20260417T110000
DTEND;TZID=America/Los_Angeles:20260501T163000
DTSTAMP:20260422T165758
CREATED:20260417T192809Z
LAST-MODIFIED:20260417T192957Z
UID:8187-1776423600-1777653000@www.casinomineranch.com
SUMMARY:Final 2024 Flicka Pour
DESCRIPTION:We’re down to the final cases of 2024 Flicka.\nBright\, clean\, and built for right now. This is the one people come back for.\nOnce it’s gone\, it’s gone. \nFor the rest of April\, we’ll be pouring a limited time tasting of 2024 Flicka. \nBook a tasting and ask for a glass. \nRESERVE TASTING
URL:https://www.casinomineranch.com/event/final-2024-flicka-pour/
LOCATION:Casino Mine Ranch Winery\, 10690 Shenandoah Rd\, Plymouth\, CA\, 95669\, United States
ATTACH;FMTTYPE=image/jpeg:https://www.casinomineranch.com/wp-content/uploads/2026/04/Final-2024-Flicka-Pour-Web-Image-2000x1000-1.jpg
ORGANIZER;CN="CMR":MAILTO:inquire@casinomineranch.com
END:VEVENT
BEGIN:VEVENT
DTSTART;TZID=America/Los_Angeles:20260417T170000
DTEND;TZID=America/Los_Angeles:20260417T200000
DTSTAMP:20260422T165758
CREATED:20260228T012352Z
LAST-MODIFIED:20260320T204258Z
UID:7934-1776445200-1776456000@www.casinomineranch.com
SUMMARY:Events That Give Back | ACVC Fundraiser
DESCRIPTION:Join us for an unforgettable evening in support of the Amador County Volleyball Club. Share a meal\, raise a glass\, and celebrate community — every ticket helps support our ACVC athletes and their journey. \n\nCasino Mine Ranch wine\nWood-fire pizza bar\nSeasonal salad bar\nLive DJ\n\nAdults-only event. Proceeds donated to ACVC. \nTickets include your meal\, one glass of wine and support of youth athletics in Amador County. \nSecure your ticket.
URL:https://www.casinomineranch.com/event/acvc-fundraiser-at-casino-mine-ranch/
LOCATION:Casino Mine Ranch Winery\, 10690 Shenandoah Rd\, Plymouth\, CA\, 95669\, United States
ATTACH;FMTTYPE=image/jpeg:https://www.casinomineranch.com/wp-content/uploads/2026/02/ACVC-Fundraiser-Event-2026-2000x1000-1-1.jpg
ORGANIZER;CN="CMR":MAILTO:inquire@casinomineranch.com
END:VEVENT
END:VCALENDAR