BEGIN:VCALENDAR
VERSION:2.0
PRODID:-//Casino Mine Ranch Winery - ECPv6.15.20//NONSGML v1.0//EN
CALSCALE:GREGORIAN
METHOD:PUBLISH
X-ORIGINAL-URL:https://www.casinomineranch.com
X-WR-CALDESC:Events for Casino Mine Ranch Winery
REFRESH-INTERVAL;VALUE=DURATION:PT1H
X-Robots-Tag:noindex
X-PUBLISHED-TTL:PT1H
BEGIN:VTIMEZONE
TZID:America/Los_Angeles
BEGIN:DAYLIGHT
TZOFFSETFROM:-0800
TZOFFSETTO:-0700
TZNAME:PDT
DTSTART:20250309T100000
END:DAYLIGHT
BEGIN:STANDARD
TZOFFSETFROM:-0700
TZOFFSETTO:-0800
TZNAME:PST
DTSTART:20251102T090000
END:STANDARD
BEGIN:DAYLIGHT
TZOFFSETFROM:-0800
TZOFFSETTO:-0700
TZNAME:PDT
DTSTART:20260308T100000
END:DAYLIGHT
BEGIN:STANDARD
TZOFFSETFROM:-0700
TZOFFSETTO:-0800
TZNAME:PST
DTSTART:20261101T090000
END:STANDARD
BEGIN:DAYLIGHT
TZOFFSETFROM:-0800
TZOFFSETTO:-0700
TZNAME:PDT
DTSTART:20270314T100000
END:DAYLIGHT
BEGIN:STANDARD
TZOFFSETFROM:-0700
TZOFFSETTO:-0800
TZNAME:PST
DTSTART:20271107T090000
END:STANDARD
END:VTIMEZONE
BEGIN:VEVENT
DTSTART;TZID=America/Los_Angeles:20260502T110000
DTEND;TZID=America/Los_Angeles:20260503T163000
DTSTAMP:20260422T133352
CREATED:20260331T181758Z
LAST-MODIFIED:20260331T185046Z
UID:8159-1777719600-1777825800@www.casinomineranch.com
SUMMARY:Spring Club Release
DESCRIPTION:Join us for a welcoming and vibrant spring gathering! Stop by to pick up your wine and soak in the serene ambiance of the Trellis on Saturday\, May 2 and Sunday\, May 3. \nWe’ll be pouring the new releases (plus a few extras of course)\, paired perfectly with a wood-fired pizza bar—because great wine deserves great food. \nMay 2 – 3\nSeatings: 11am\, 1pm\, and 3pm \nThe Wines:\n2024 Vermentino\n2023 Grenache Noir\n2024 Zinfandel \nReservations are now open and required to attend. This event is for Wine Club members and their guests only (21+). \nWe can’t wait to celebrate the Spring with you! \nReserve your spot now. \n*Reminder: Log into Tock using the email linked to your club account to view availability.
URL:https://www.casinomineranch.com/event/spring-club-release/
LOCATION:Casino Mine Ranch Winery\, 10690 Shenandoah Rd\, Plymouth\, CA\, 95669\, United States
ATTACH;FMTTYPE=image/jpeg:https://www.casinomineranch.com/wp-content/uploads/2026/03/Spring-Club-Release-Event-Image-2000x1000-1.jpg
ORGANIZER;CN="CMR":MAILTO:inquire@casinomineranch.com
END:VEVENT
END:VCALENDAR