BEGIN:VCALENDAR
VERSION:2.0
PRODID:-//Casino Mine Ranch Winery - ECPv6.15.20//NONSGML v1.0//EN
CALSCALE:GREGORIAN
METHOD:PUBLISH
X-ORIGINAL-URL:https://www.casinomineranch.com
X-WR-CALDESC:Events for Casino Mine Ranch Winery
REFRESH-INTERVAL;VALUE=DURATION:PT1H
X-Robots-Tag:noindex
X-PUBLISHED-TTL:PT1H
BEGIN:VTIMEZONE
TZID:America/Los_Angeles
BEGIN:DAYLIGHT
TZOFFSETFROM:-0800
TZOFFSETTO:-0700
TZNAME:PDT
DTSTART:20250309T100000
END:DAYLIGHT
BEGIN:STANDARD
TZOFFSETFROM:-0700
TZOFFSETTO:-0800
TZNAME:PST
DTSTART:20251102T090000
END:STANDARD
BEGIN:DAYLIGHT
TZOFFSETFROM:-0800
TZOFFSETTO:-0700
TZNAME:PDT
DTSTART:20260308T100000
END:DAYLIGHT
BEGIN:STANDARD
TZOFFSETFROM:-0700
TZOFFSETTO:-0800
TZNAME:PST
DTSTART:20261101T090000
END:STANDARD
BEGIN:DAYLIGHT
TZOFFSETFROM:-0800
TZOFFSETTO:-0700
TZNAME:PDT
DTSTART:20270314T100000
END:DAYLIGHT
BEGIN:STANDARD
TZOFFSETFROM:-0700
TZOFFSETTO:-0800
TZNAME:PST
DTSTART:20271107T090000
END:STANDARD
END:VTIMEZONE
BEGIN:VEVENT
DTSTART;TZID=America/Los_Angeles:20260524T120000
DTEND;TZID=America/Los_Angeles:20260524T160000
DTSTAMP:20260422T154443
CREATED:20260329T190041Z
LAST-MODIFIED:20260329T190213Z
UID:8142-1779624000-1779638400@www.casinomineranch.com
SUMMARY:Memorial Day Shell-A-Bration
DESCRIPTION:Let’s ramp up summer the right way — with oysters\, wine\, and sunshine in the foothills. Whether you are an oyster pro or just here for the view\, this laid-back afternoon is all about good flavors\, good folks\, and a little start-of-summer magic. \nSunday May 24\, 2026 \nSeatings: 12pm\, 1pm\, and 2pm \nYour ticket includes: \n\nA glass of our crisp\, refreshing Vermentino\nA guided oyster flight featuring 3 unique oyster varieties\nA half dozen oysters to enjoy post-flight\n\nAdd-ons available: \n\n$21 – Additional half dozen oysters\n$40 – Additional dozen oysters\n\nCheers and see you there! \nTICKETS
URL:https://www.casinomineranch.com/event/memorial-day-shell-a-bration/
LOCATION:Casino Mine Ranch Winery\, 10690 Shenandoah Rd\, Plymouth\, CA\, 95669\, United States
ATTACH;FMTTYPE=image/png:https://www.casinomineranch.com/wp-content/uploads/2025/06/labor-day-shellabration-website.png
ORGANIZER;CN="CMR":MAILTO:inquire@casinomineranch.com
END:VEVENT
END:VCALENDAR