BEGIN:VCALENDAR
VERSION:2.0
PRODID:-//Casino Mine Ranch Winery - ECPv6.15.20//NONSGML v1.0//EN
CALSCALE:GREGORIAN
METHOD:PUBLISH
X-ORIGINAL-URL:https://www.casinomineranch.com
X-WR-CALDESC:Events for Casino Mine Ranch Winery
REFRESH-INTERVAL;VALUE=DURATION:PT1H
X-Robots-Tag:noindex
X-PUBLISHED-TTL:PT1H
BEGIN:VTIMEZONE
TZID:America/Los_Angeles
BEGIN:DAYLIGHT
TZOFFSETFROM:-0800
TZOFFSETTO:-0700
TZNAME:PDT
DTSTART:20250309T100000
END:DAYLIGHT
BEGIN:STANDARD
TZOFFSETFROM:-0700
TZOFFSETTO:-0800
TZNAME:PST
DTSTART:20251102T090000
END:STANDARD
BEGIN:DAYLIGHT
TZOFFSETFROM:-0800
TZOFFSETTO:-0700
TZNAME:PDT
DTSTART:20260308T100000
END:DAYLIGHT
BEGIN:STANDARD
TZOFFSETFROM:-0700
TZOFFSETTO:-0800
TZNAME:PST
DTSTART:20261101T090000
END:STANDARD
BEGIN:DAYLIGHT
TZOFFSETFROM:-0800
TZOFFSETTO:-0700
TZNAME:PDT
DTSTART:20270314T100000
END:DAYLIGHT
BEGIN:STANDARD
TZOFFSETFROM:-0700
TZOFFSETTO:-0800
TZNAME:PST
DTSTART:20271107T090000
END:STANDARD
END:VTIMEZONE
BEGIN:VEVENT
DTSTART;TZID=America/Los_Angeles:20260207T110000
DTEND;TZID=America/Los_Angeles:20260301T163000
DTSTAMP:20260422T170529
CREATED:20260109T212152Z
LAST-MODIFIED:20260203T202846Z
UID:6610-1770462000-1772382600@www.casinomineranch.com
SUMMARY:Fireside February
DESCRIPTION:Looking for a cozy retreat this winter to enjoy the beautiful outdoors\, with wine in hand? \nThis February\, settle in for a fireside wine tasting experience in our Garden\, designed for groups of 2 to 6 guests. Sip\, savor\, and linger as the wood fire crackles nearby and the ranch slows down around you. \nOn Saturdays and Sundays\, enjoy the glow and warmth of the fire\, and add a savory s’more pack that includes salami\, cheeses\, crackers & accompaniments ($45 for two servings)\, or indulge in a classic sweet s’more pack ($15 for two servings). Both are perfect for sharing\, or not. \nFor weekend fireside pricing and reservations\, please email inquire@casinomineranch.com. \n*Subject to weather permitting.
URL:https://www.casinomineranch.com/event/fireside-february/
LOCATION:Casino Mine Ranch Winery\, 10690 Shenandoah Rd\, Plymouth\, CA\, 95669\, United States
ATTACH;FMTTYPE=image/jpeg:https://www.casinomineranch.com/wp-content/uploads/2026/01/Fireside-February-2000x1000-1.jpg
ORGANIZER;CN="CMR":MAILTO:inquire@casinomineranch.com
END:VEVENT
BEGIN:VEVENT
DTSTART;VALUE=DATE:20260322
DTEND;VALUE=DATE:20260323
DTSTAMP:20260422T170529
CREATED:20251213T171853Z
LAST-MODIFIED:20260213T060548Z
UID:6452-1774137600-1774223999@www.casinomineranch.com
SUMMARY:Slice of Spring
DESCRIPTION:We welcome the spring season with Slice of Spring\, an intimate wine-and-pizza pairing designed to celebrate fresh flavors\, good conversations and great company at Casino Mine Ranch. Thoughtfully paired wines\, beautifully crafted pizzas\, and a setting made for lingering. \nWe’ll be enjoying nature’s signs of spring under the Trellis\, so gather your people\, come hungry\, stay awhile\, and let us handle the rest. \n\nReservations required\n$35 Wine Club | $45 General Admission\nSeatings at 12 pm\, 12:30 pm\, 1:30 pm\, and 2 pm\n21+ event\n\nPurchase tickets here. \n*Weather permitting\, the event may move inside the tasting room.
URL:https://www.casinomineranch.com/event/slice-of-spring/
LOCATION:Casino Mine Ranch Winery\, 10690 Shenandoah Rd\, Plymouth\, CA\, 95669\, United States
ATTACH;FMTTYPE=image/jpeg:https://www.casinomineranch.com/wp-content/uploads/2025/12/Slice-of-Spring-2000-x-1000.jpg
ORGANIZER;CN="CMR":MAILTO:inquire@casinomineranch.com
END:VEVENT
BEGIN:VEVENT
DTSTART;TZID=America/Los_Angeles:20260329T113000
DTEND;TZID=America/Los_Angeles:20260329T133000
DTSTAMP:20260422T170529
CREATED:20251213T172544Z
LAST-MODIFIED:20260320T204642Z
UID:6455-1774783800-1774791000@www.casinomineranch.com
SUMMARY:Events That Give Back | Wine & Wildlife
DESCRIPTION:Nature has a way of taking care of itself—if we let it. Birds of prey and native wildlife help keep pests in check naturally\, allowing us to farm with a lighter hand and stay true to our organic practices. Want to see how it all works? \nReturning by popular demand\, we are excited to welcome back the team from Sierra Wildlife Rescue for a wine-paired presentation under the Trellis at Casino Mine Ranch. We welcome you\, family and friends to this family-friendly experience. \nFeaturing up-close encounters with rescued wildlife\, we’ll see how they naturally help keep pests in check\, allowing us to farm with a lighter hand and stay true to our organic practices.  Afterward\, stick around for a grazing board reception\, good wine\, and easy company. And yes\, you may even get a photo with a hawk. \nPlus\, 50% of the proceeds go back to Sierra Wildlife Rescue.  Drink well. Do some good. \nSpace is limited\, ticket sales close on March 26th! \nTickets
URL:https://www.casinomineranch.com/event/wine-wildlife/
LOCATION:Casino Mine Ranch Winery\, 10690 Shenandoah Rd\, Plymouth\, CA\, 95669\, United States
ATTACH;FMTTYPE=image/jpeg:https://www.casinomineranch.com/wp-content/uploads/2025/12/Wine-Wildlife-Email-Image-2026.jpg
END:VEVENT
END:VCALENDAR